BEGIN:VCALENDAR
VERSION:2.0
PRODID:-//Pet Pantry Lancaster - ECPv6.15.20//NONSGML v1.0//EN
CALSCALE:GREGORIAN
METHOD:PUBLISH
X-WR-CALNAME:Pet Pantry Lancaster
X-ORIGINAL-URL:https://petpantrylc.org
X-WR-CALDESC:Events for Pet Pantry Lancaster
REFRESH-INTERVAL;VALUE=DURATION:PT1H
X-Robots-Tag:noindex
X-PUBLISHED-TTL:PT1H
BEGIN:VTIMEZONE
TZID:UTC
BEGIN:STANDARD
TZOFFSETFROM:+0000
TZOFFSETTO:+0000
TZNAME:UTC
DTSTART:20210101T000000
END:STANDARD
END:VTIMEZONE
BEGIN:VEVENT
DTSTART;TZID=UTC:20220713T180000
DTEND;TZID=UTC:20220713T200000
DTSTAMP:20260419T215420
CREATED:20220524T194434Z
LAST-MODIFIED:20220524T194434Z
UID:1724-1657735200-1657742400@petpantrylc.org
SUMMARY:9 Lives Beer Launch Party
DESCRIPTION:Join us to raise a glass to the animals we serve. We are excited to share that Pet Pantry of Lancaster County has collaborated with Spring House Brewing Co. to create a specialty beer that will benefit the most vulnerable animals in our community. 9 Lives is a Hazy IPA with a flavor profile of El Dorado\, Citra\, Enigma and Simcoe hops\, we know this brew will become a summer staple. \nWe invite you to join us at our 9 Lives Beer Launch Party to enjoy the first pour of this catastic brew along with food specials\, Spring House’s dog-friendly patio\, and a special animal themed trivia night. Come show your support for the paws and join in the festivities! \n 
URL:https://petpantrylc.org/pet-pantry-event/9-lives-beer-launch-party/
LOCATION:Spring House Brewing Company\, 209 Hazel St\, Lancaster\, PA\, 17603
END:VEVENT
BEGIN:VEVENT
DTSTART;TZID=UTC:20220619T080000
DTEND;TZID=UTC:20220619T150000
DTSTAMP:20260419T215420
CREATED:20220614T204011Z
LAST-MODIFIED:20220614T204045Z
UID:1755-1655625600-1655650800@petpantrylc.org
SUMMARY:Pet Pantry Yard Sale
DESCRIPTION:We’re selling pet stuff! From pet care supplies\, to toys\, and more we will have all kinds of wonderful finds available at this year’s yard sale. Come to the Pet Pantry of Lancaster County to see what great stuff you can find!
URL:https://petpantrylc.org/pet-pantry-event/pet-pantry-yard-sale/
LOCATION:PA
END:VEVENT
BEGIN:VEVENT
DTSTART;TZID=UTC:20220604T090000
DTEND;TZID=UTC:20220604T130000
DTSTAMP:20260419T215420
CREATED:20220510T193317Z
LAST-MODIFIED:20220614T204124Z
UID:1663-1654333200-1654347600@petpantrylc.org
SUMMARY:No-Cost Vaccine & Microchip Clinic
DESCRIPTION:Thanks to the support of The Irving and Phyllis Millstein Foundation for Animal Welfare Ltd. the Pet Pantry of Lancaster County will be providing several no cost vaccine clinics to provide core vaccinations to community pets in need.\n\nThese services are provided with the intention of removing barriers to accessing care and proof of need will be required\, which includes an ACCESS card\, SSI statement\, or an unemployment determination letter.\n\nOur June 4th clinic will be serving dogs only. Dog licensing and microchip services will be available for a nominal fee.
URL:https://petpantrylc.org/pet-pantry-event/no-cost-vaccine-clinics/
LOCATION:Saca\, Tec Center\, 102 Chester Street\, Lancaster\, PA\, 17602\, United States
END:VEVENT
BEGIN:VEVENT
DTSTART;TZID=UTC:20220525T183000
DTEND;TZID=UTC:20220525T203000
DTSTAMP:20260419T215420
CREATED:20220509T184037Z
LAST-MODIFIED:20220509T195312Z
UID:1611-1653503400-1653510600@petpantrylc.org
SUMMARY:Wacker Brewing Co. Trivia Night
DESCRIPTION:Test your wits and join us at Wacker Brewing Co. each Wednesday evening in May\, as well as Sunday\, May 15th\, for a chance to showcase your trivia skills all while benefiting the animals of Pet Pantry of Lancaster County.  A portion of the proceeds from each trivia event will go to the animals we serve and help us continue this lifesaving work. Enjoy four rounds of trivia\,  join any time\, and there will be prizes up for grabs!
URL:https://petpantrylc.org/pet-pantry-event/wacker-brewing-co-trivia-night-4/
LOCATION:Wacker Brewing Co.\, 312 Beaver Valley Road\, Lancaster\, PA\, 17584\, United States
END:VEVENT
BEGIN:VEVENT
DTSTART;TZID=UTC:20220518T183000
DTEND;TZID=UTC:20220518T203000
DTSTAMP:20260419T215420
CREATED:20220509T183724Z
LAST-MODIFIED:20220509T183724Z
UID:1606-1652898600-1652905800@petpantrylc.org
SUMMARY:Wacker Brewing Co. Trivia Night
DESCRIPTION:Test your wits and join us at Wacker Brewing Co. each Wednesday evening in May\, as well as Sunday\, May 15th\, for a chance to showcase your trivia skills all while benefiting the animals of Pet Pantry of Lancaster County.  A portion of the proceeds from each trivia event will go to the animals we serve and help us continue this lifesaving work. Enjoy four rounds of trivia\,  join any time\, and there will be prizes up for grabs!
URL:https://petpantrylc.org/pet-pantry-event/wacker-brewing-co-trivia-night-2/
LOCATION:Wacker Brewing Co.\, 312 Beaver Valley Road\, Lancaster\, PA\, 17584\, United States
END:VEVENT
BEGIN:VEVENT
DTSTART;TZID=UTC:20220515T130000
DTEND;TZID=UTC:20220515T150000
DTSTAMP:20260419T215420
CREATED:20220509T183922Z
LAST-MODIFIED:20220509T183922Z
UID:1608-1652619600-1652626800@petpantrylc.org
SUMMARY:Wacker Brewing Co. Trivia Night
DESCRIPTION:Test your wits and join us at Wacker Brewing Co. each Wednesday evening in May\, as well as Sunday\, May 15th\, for a chance to showcase your trivia skills all while benefiting the animals of Pet Pantry of Lancaster County.  A portion of the proceeds from each trivia event will go to the animals we serve and help us continue this lifesaving work. Enjoy four rounds of trivia\,  join any time\, and there will be prizes up for grabs!
URL:https://petpantrylc.org/pet-pantry-event/wacker-brewing-co-trivia-night-3/
LOCATION:Wacker Brewing Co.\, 312 Beaver Valley Road\, Lancaster\, PA\, 17584\, United States
END:VEVENT
BEGIN:VEVENT
DTSTART;TZID=UTC:20220511T183000
DTEND;TZID=UTC:20220511T203000
DTSTAMP:20260419T215420
CREATED:20220505T182905Z
LAST-MODIFIED:20220509T183450Z
UID:1569-1652293800-1652301000@petpantrylc.org
SUMMARY:Wacker Brewing Co. Trivia Night
DESCRIPTION:Test your wits and join us at Wacker Brewing Co. each Wednesday evening in May\, as well as Sunday\, May 15th\, for a chance to showcase your trivia skills all while benefiting the animals of Pet Pantry of Lancaster County.  A portion of the proceeds from each trivia event will go to the animals we serve and help us continue this lifesaving work. Enjoy four rounds of trivia\,  join any time\, and there will be prizes up for grabs!
URL:https://petpantrylc.org/pet-pantry-event/wacker-brewing-co-trivia-night/
LOCATION:Wacker Brewing Co.\, 312 Beaver Valley Road\, Lancaster\, PA\, 17584\, United States
END:VEVENT
END:VCALENDAR